BEGIN:VCALENDAR
VERSION:2.0
PRODID:-//TRTR - ECPv6.10.0//NONSGML v1.0//EN
CALSCALE:GREGORIAN
METHOD:PUBLISH
X-WR-CALNAME:TRTR
X-ORIGINAL-URL:https://www.trtr.org
X-WR-CALDESC:Events for TRTR
REFRESH-INTERVAL;VALUE=DURATION:PT1H
X-Robots-Tag:noindex
X-PUBLISHED-TTL:PT1H
BEGIN:VTIMEZONE
TZID:America/New_York
BEGIN:DAYLIGHT
TZOFFSETFROM:-0500
TZOFFSETTO:-0400
TZNAME:EDT
DTSTART:20260308T070000
END:DAYLIGHT
BEGIN:STANDARD
TZOFFSETFROM:-0400
TZOFFSETTO:-0500
TZNAME:EST
DTSTART:20261101T060000
END:STANDARD
END:VTIMEZONE
BEGIN:VEVENT
DTSTART;VALUE=DATE:20260419
DTEND;VALUE=DATE:20260424
DTSTAMP:20260420T152527
CREATED:20250817T042816Z
LAST-MODIFIED:20250817T042816Z
UID:5905-1776556800-1776988799@www.trtr.org
SUMMARY:PHYSOR 2026
DESCRIPTION:
URL:https://www.trtr.org/event/physor-2026/
LOCATION:Turin\, Turin\, Piedmont\, Italy
END:VEVENT
BEGIN:VEVENT
DTSTART;VALUE=DATE:20260420
DTEND;VALUE=DATE:20260422
DTSTAMP:20260420T152527
CREATED:20250918T111247Z
LAST-MODIFIED:20250918T111247Z
UID:5939-1776643200-1776815999@www.trtr.org
SUMMARY:IRIS 2026 – International Radioisotope Supply Chain Meeting
DESCRIPTION:
URL:https://www.trtr.org/event/iris-2026-international-radioisotope-supply-chain-meeting/
LOCATION:Leiden\, Leiden\, South Holland\, Netherlands
END:VEVENT
BEGIN:VEVENT
DTSTART;VALUE=DATE:20260420
DTEND;VALUE=DATE:20260425
DTSTAMP:20260420T152527
CREATED:20250821T231929Z
LAST-MODIFIED:20250821T231929Z
UID:5915-1776643200-1777075199@www.trtr.org
SUMMARY:European Research Reactor Conference (RRFM) 2026
DESCRIPTION:
URL:https://www.trtr.org/event/european-research-reactor-conference-rrfm-2026/
LOCATION:Leiden\, Leiden\, South Holland\, Netherlands
END:VEVENT
END:VCALENDAR